BEGIN:VCALENDAR
VERSION:2.0
PRODID:-//Tukios.com/
BEGIN:VEVENT
UID:f12974a6-50fd-499e-a169-6dcaff1af119@www.tribute.care
DTSTAMP:20260420T235537Z
DTSTART:20260427T203000Z
DTEND:20260427T213000Z
SUMMARY:Burial
DESCRIPTION:
URL:https://www.tribute.care/obituaries/rebecca-ernest
LOCATION: 1913 North Porter Avenue  Norman OK 73071
GEO:35.2428557;-97.4407673
END:VEVENT
END:VCALENDAR