BEGIN:VCALENDAR
VERSION:2.0
PRODID:-//Tukios.com/
BEGIN:VEVENT
UID:7225ee87-407a-4a50-b9bc-46c91d1bb66f@www.tribute.care
DTSTAMP:20260420T235557Z
DTSTART:20260427T190000Z
DTEND:20260427T200000Z
SUMMARY:Funeral Service
DESCRIPTION:
URL:https://www.tribute.care/obituaries/rebecca-ernest
LOCATION:Bethel Baptist Church 1717 West Lindsey Street  Norman OK 73069
GEO:35.2046148;-97.4669581
END:VEVENT
END:VCALENDAR