BEGIN:VCALENDAR
VERSION:2.0
PRODID:-//Tukios.com/
BEGIN:VEVENT
UID:1f288f0b-6702-40b0-895d-7e0eae3866f9@www.tribute.care
DTSTAMP:20260420T235537Z
DTSTART:20260426T190000Z
DTEND:20260426T210000Z
SUMMARY:Visitation
DESCRIPTION:
URL:https://www.tribute.care/obituaries/rebecca-ernest
LOCATION: 4300 W Indian Hills Rd  Norman OK 73072
GEO:35.2898466;-97.5058921
END:VEVENT
END:VCALENDAR