BEGIN:VCALENDAR
VERSION:2.0
PRODID:-//Tukios.com/
BEGIN:VEVENT
UID:ca630743-99b6-4299-99f3-73e2cdd60b3a@www.tribute.care
DTSTAMP:20260423T211220Z
DTSTART:20260427T161500Z
DTEND:20260427T171500Z
SUMMARY:Interment
DESCRIPTION:
URL:https://www.tribute.care/obituaries/kyle-winstead
LOCATION: 1913 North Porter Avenue  Norman OK 73069
GEO:35.2429004;-97.440713
END:VEVENT
END:VCALENDAR