BEGIN:VCALENDAR
VERSION:2.0
PRODID:-//Tukios.com/
BEGIN:VEVENT
UID:5c11b0e7-4002-4c9a-ab62-d6c38d77ecaf@www.tribute.care
DTSTAMP:20260423T211437Z
DTSTART:20260426T230000Z
DTEND:20260427T000000Z
SUMMARY:Rosary
DESCRIPTION:
URL:https://www.tribute.care/obituaries/kyle-winstead
LOCATION: 3939 West Tecumseh Road  Norman OK 73072
GEO:35.2629523;-97.4980765
END:VEVENT
END:VCALENDAR