BEGIN:VCALENDAR
VERSION:2.0
PRODID:-//Tukios.com/
BEGIN:VEVENT
UID:0ed91d15-60b5-4611-b2e4-9715e4cfd0a0@www.tribute.care
DTSTAMP:20260423T211016Z
DTSTART:20260427T150000Z
DTEND:20260427T160000Z
SUMMARY:Mass
DESCRIPTION:
URL:https://www.tribute.care/obituaries/kyle-winstead
LOCATION:St Mark Catholic Church 3939 West Tecumseh Road  Norman OK 73072
GEO:35.2629523;-97.4980765
END:VEVENT
END:VCALENDAR