BEGIN:VCALENDAR
VERSION:2.0
PRODID:-//Tukios.com/
BEGIN:VEVENT
UID:3866db8b-b507-4511-872d-fb19ff0b4288@www.tribute.care
DTSTAMP:20260423T211540Z
DTSTART:20260426T220000Z
DTEND:20260426T230000Z
SUMMARY:Visitation
DESCRIPTION:
URL:https://www.tribute.care/obituaries/kyle-winstead
LOCATION:St Mark Catholic Church 3939 West Tecumseh Road  Norman OK 73072
GEO:35.2629523;-97.4980765
END:VEVENT
END:VCALENDAR