BEGIN:VCALENDAR
VERSION:2.0
PRODID:-//Tukios.com/
BEGIN:VEVENT
UID:406d0600-5b5c-4c61-a3be-a23862177db9@www.tribute.care
DTSTAMP:20260424T222820Z
DTSTART:20260430T203000Z
DTEND:20260430T213000Z
SUMMARY:Interment
DESCRIPTION:
URL:https://www.tribute.care/obituaries/idela-followwill
LOCATION:Blackburn Cemetery Franklin and Anderson Road  Norman OK 73026
GEO:35.3845975;-97.3178389
END:VEVENT
END:VCALENDAR