BEGIN:VCALENDAR
VERSION:2.0
PRODID:-//Tukios.com/
BEGIN:VEVENT
UID:906ce027-c699-401f-92ab-c91effabd4cd@www.tribute.care
DTSTAMP:20260424T222749Z
DTSTART:20260430T190000Z
DTEND:20260430T200000Z
SUMMARY:Funeral Service
DESCRIPTION:
URL:https://www.tribute.care/obituaries/idela-followwill
LOCATION: 2601 24th Avenue Southeast  Norman OK 73069
GEO:35.1866159;-97.4040879
END:VEVENT
END:VCALENDAR