BEGIN:VCALENDAR
VERSION:2.0
PRODID:-//Tukios.com/
BEGIN:VEVENT
UID:928077fc-939b-446e-aecd-7961c73a12d1@www.tribute.care
DTSTAMP:20260424T223347Z
DTSTART:20260429T210000Z
DTEND:20260430T010000Z
SUMMARY:Visitation
DESCRIPTION:
URL:https://www.tribute.care/obituaries/idela-followwill
LOCATION: 4300 W Indian Hills Rd  Norman OK 73072
GEO:35.2898466;-97.5058921
END:VEVENT
END:VCALENDAR